BEGIN:VCALENDAR
VERSION:2.0
PRODID:-//sjogrenscanada.org//NONSGML kigkonsult.se iCalcreator 2.30.10//
CALSCALE:GREGORIAN
METHOD:PUBLISH
UID:efa08b01-24fa-441f-991c-086cbdddc029
X-WR-CALDESC:Cristina Montoya\, Registered Dietitian\n'Beat the Bloat\, lea
 rn about the Sjögren's Nourish Framework'
X-WR-RELCALID:1814dbbaf902c57c5ab7c145ad243660
X-WR-TIMEZONE:America/New_York
BEGIN:VTIMEZONE
TZID:America/New_York
BEGIN:STANDARD
TZNAME:EST
DTSTART:20251102T020000
TZOFFSETFROM:-0400
TZOFFSETTO:-0500
RDATE:20261101T020000
END:STANDARD
BEGIN:DAYLIGHT
TZNAME:EDT
DTSTART:20250309T020000
TZOFFSETFROM:-0500
TZOFFSETTO:-0400
RDATE:20260308T020000
RDATE:20270314T020000
END:DAYLIGHT
END:VTIMEZONE
BEGIN:VEVENT
UID:99e9bd34-f532-47e3-998b-8e86e538d84a
DTSTAMP:20260419T191539Z
DESCRIPTION:Cristina Montoya\, Registered Dietitian\n'Beat the Bloat\, lear
 n about the Sjögren's Nourish Framework'
DTSTART;TZID=America/New_York:20251210T190000
DTEND;TZID=America/New_York:20251210T203000
LOCATION:https://us02web.zoom.us/webinar/register/WN_OjLu5C0UQ_2OIYyMxW6sfQ
SUMMARY:Members Only Virtual Town Hall
END:VEVENT
END:VCALENDAR
