BEGIN:VCALENDAR
VERSION:2.0
PRODID:-//sjogrenscanada.org//NONSGML kigkonsult.se iCalcreator 2.30.10//
CALSCALE:GREGORIAN
METHOD:PUBLISH
UID:dc6e557a-d0f8-4dac-8c5c-cef3886a157e
X-WR-CALDESC:
X-WR-RELCALID:9ce9ffc7fd5ad08e4238fb725b892652
X-WR-TIMEZONE:America/New_York
BEGIN:VTIMEZONE
TZID:America/New_York
BEGIN:STANDARD
TZNAME:EST
DTSTART:20251102T020000
TZOFFSETFROM:-0400
TZOFFSETTO:-0500
RDATE:20261101T020000
END:STANDARD
BEGIN:DAYLIGHT
TZNAME:EDT
DTSTART:20250309T020000
TZOFFSETFROM:-0500
TZOFFSETTO:-0400
RDATE:20260308T020000
RDATE:20270314T020000
END:DAYLIGHT
END:VTIMEZONE
BEGIN:VEVENT
UID:d0ad94c0-fded-4559-9473-ad974405dee7
DTSTAMP:20260419T191857Z
DESCRIPTION:
DTSTART;TZID=America/New_York:20251217T190000
DTEND;TZID=America/New_York:20251217T210000
LOCATION:https://us02web.zoom.us/j/82811922893?pwd=B4hRWnu2muqnN8oM9oxYwTQS
 WPHZpz.1
SUMMARY:Durham Region Support Group Meeting
END:VEVENT
END:VCALENDAR
