BEGIN:VCALENDAR
VERSION:2.0
PRODID:-//sjogrenscanada.org//NONSGML kigkonsult.se iCalcreator 2.30.10//
CALSCALE:GREGORIAN
METHOD:PUBLISH
UID:b99378d7-bef3-4d80-b214-9a1bad0e081f
X-WR-CALDESC:Sharing & Caring
X-WR-RELCALID:8f102f6ce23cc32a9f5595cd6d07cd3f
X-WR-TIMEZONE:America/New_York
BEGIN:VTIMEZONE
TZID:America/New_York
BEGIN:STANDARD
TZNAME:EST
DTSTART:20251102T020000
TZOFFSETFROM:-0400
TZOFFSETTO:-0500
RDATE:20261101T020000
END:STANDARD
BEGIN:DAYLIGHT
TZNAME:EDT
DTSTART:20250309T020000
TZOFFSETFROM:-0500
TZOFFSETTO:-0400
RDATE:20260308T020000
RDATE:20270314T020000
END:DAYLIGHT
END:VTIMEZONE
BEGIN:VEVENT
UID:ed3c5595-509d-4906-9616-6c55240bb351
DTSTAMP:20260419T173451Z
DESCRIPTION:Sharing & Caring
DTSTART;TZID=America/New_York:20260128T190000
DTEND;TZID=America/New_York:20260128T210000
LOCATION:https://us02web.zoom.us/j/87206942208?pwd=uCUPumb9X0fOhMQji88VcSU8
 qicoI8.1
SUMMARY:Durham Region Support Group Meeting
END:VEVENT
END:VCALENDAR
