BEGIN:VCALENDAR
VERSION:2.0
PRODID:-//sjogrenscanada.org//NONSGML kigkonsult.se iCalcreator 2.30.10//
CALSCALE:GREGORIAN
METHOD:PUBLISH
UID:4f17d01f-7322-41b4-96cb-bcb504b84040
X-WR-CALDESC:
X-WR-RELCALID:e06bc4742cfa2591f630cca30c16f4c2
X-WR-TIMEZONE:America/New_York
BEGIN:VTIMEZONE
TZID:America/New_York
BEGIN:STANDARD
TZNAME:EST
DTSTART:20251102T020000
TZOFFSETFROM:-0400
TZOFFSETTO:-0500
RDATE:20261101T020000
END:STANDARD
BEGIN:DAYLIGHT
TZNAME:EDT
DTSTART:20250309T020000
TZOFFSETFROM:-0500
TZOFFSETTO:-0400
RDATE:20260308T020000
RDATE:20270314T020000
END:DAYLIGHT
END:VTIMEZONE
BEGIN:VEVENT
UID:efae21ad-0f79-4122-81f4-3d8456e4296f
DTSTAMP:20260419T153929Z
DESCRIPTION:
DTSTART;TZID=America/New_York:20260218T190000
DTEND;TZID=America/New_York:20260218T210000
LOCATION:https://us02web.zoom.us/j/85040592846?pwd=9qrRZ6V5tlyHGdTzQJOJV4k9
 fbsaSo.1
SUMMARY:Durham Region Support Group Meeting
END:VEVENT
END:VCALENDAR
