BEGIN:VCALENDAR
VERSION:2.0
PRODID:-//sjogrenscanada.org//NONSGML kigkonsult.se iCalcreator 2.30.10//
CALSCALE:GREGORIAN
METHOD:PUBLISH
UID:37897bcc-e777-4bda-82d3-cdb5b037301c
X-WR-CALDESC:
X-WR-RELCALID:fdd7c5f4318620e86db2c29024e404ca
X-WR-TIMEZONE:America/Chicago
BEGIN:VTIMEZONE
TZID:America/Chicago
BEGIN:STANDARD
TZNAME:CST
DTSTART:20251102T020000
TZOFFSETFROM:-0500
TZOFFSETTO:-0600
RDATE:20261101T020000
END:STANDARD
BEGIN:DAYLIGHT
TZNAME:CDT
DTSTART:20250309T020000
TZOFFSETFROM:-0600
TZOFFSETTO:-0500
RDATE:20260308T020000
RDATE:20270314T020000
END:DAYLIGHT
END:VTIMEZONE
BEGIN:VEVENT
UID:5dbe4f28-1be8-4f24-876f-f8a8cc6a6bbc
DTSTAMP:20260419T153128Z
DESCRIPTION:
DTSTART;TZID=America/Chicago:20260219T183000
DTEND;TZID=America/Chicago:20260219T203000
LOCATION:https://us02web.zoom.us/j/85383776021?pwd=bIaxaGvR8qOvOXn8TBYe7hn6
 bVDfvC.1
SUMMARY:Manitoba Support Group Meeting
END:VEVENT
END:VCALENDAR
