BEGIN:VCALENDAR
VERSION:2.0
PRODID:-//sjogrenscanada.org//NONSGML kigkonsult.se iCalcreator 2.30.10//
CALSCALE:GREGORIAN
METHOD:PUBLISH
UID:7da5a674-1536-48f6-9561-0d967cd944f6
X-WR-CALDESC:This will be an informal chat. Feel free to bring any question
 s to the group.
X-WR-RELCALID:36ad00b6243f6019829dab9eaff18938
X-WR-TIMEZONE:America/New_York
BEGIN:VTIMEZONE
TZID:America/New_York
BEGIN:STANDARD
TZNAME:EST
DTSTART:20251102T020000
TZOFFSETFROM:-0400
TZOFFSETTO:-0500
RDATE:20261101T020000
END:STANDARD
BEGIN:DAYLIGHT
TZNAME:EDT
DTSTART:20260308T020000
TZOFFSETFROM:-0500
TZOFFSETTO:-0400
RDATE:20270314T020000
END:DAYLIGHT
END:VTIMEZONE
BEGIN:VEVENT
UID:f39ebd70-a277-4f5b-b98f-4d6954749b09
DTSTAMP:20260422T064110Z
DESCRIPTION:This will be an informal chat. Feel free to bring any questions
  to the group.
DTSTART;TZID=America/New_York:20260506T190000
DTEND;TZID=America/New_York:20260506T203000
LOCATION:https://us02web.zoom.us/j/83376119560?pwd=4zlbbTQNvePBq1p5QqHlHatL
 mJAr29.1
SUMMARY:Montreal Support Group Meeting
END:VEVENT
END:VCALENDAR
