BEGIN:VCALENDAR
VERSION:2.0
PRODID:-//sjogrenscanada.org//NONSGML kigkonsult.se iCalcreator 2.30.10//
CALSCALE:GREGORIAN
METHOD:PUBLISH
UID:027f0975-f647-4297-99f7-02e9852336ae
X-WR-CALDESC:
X-WR-RELCALID:1bb50b51459199892d52605b4c1e3a8d
X-WR-TIMEZONE:America/Denver
BEGIN:VTIMEZONE
TZID:America/Denver
BEGIN:STANDARD
TZNAME:MST
DTSTART:20251102T020000
TZOFFSETFROM:-0600
TZOFFSETTO:-0700
RDATE:20261101T020000
RDATE:20271107T020000
END:STANDARD
BEGIN:DAYLIGHT
TZNAME:MDT
DTSTART:20260308T020000
TZOFFSETFROM:-0700
TZOFFSETTO:-0600
RDATE:20270314T020000
END:DAYLIGHT
END:VTIMEZONE
BEGIN:VEVENT
UID:ab9bedf0-19a8-4c6d-8658-7481c037b2e0
DTSTAMP:20260422T224544Z
DESCRIPTION:
DTSTART;TZID=America/Denver:20260512T170000
DTEND;TZID=America/Denver:20260512T190000
LOCATION:https://us02web.zoom.us/j/86824681984?pwd=0WTksiVNJzaVd2644LCrIy1O
 ZV2bU3.1
SUMMARY:Edmonton Support Group Meeting
END:VEVENT
END:VCALENDAR
