BEGIN:VCALENDAR
VERSION:2.0
PRODID:-//sjogrenscanada.org//NONSGML kigkonsult.se iCalcreator 2.30.10//
CALSCALE:GREGORIAN
METHOD:PUBLISH
UID:bb814d6b-7024-4e38-add3-40b256378103
X-WR-CALDESC:
X-WR-RELCALID:3e33f157df6f55a82ca27ebadd294845
X-WR-TIMEZONE:America/St_Johns
BEGIN:VTIMEZONE
TZID:America/St_Johns
BEGIN:STANDARD
TZNAME:NST
DTSTART:20251102T020000
TZOFFSETFROM:-0230
TZOFFSETTO:-0330
RDATE:20261101T020000
RDATE:20271107T020000
END:STANDARD
BEGIN:DAYLIGHT
TZNAME:NDT
DTSTART:20260308T020000
TZOFFSETFROM:-0330
TZOFFSETTO:-0230
RDATE:20270314T020000
END:DAYLIGHT
END:VTIMEZONE
BEGIN:VEVENT
UID:071c5956-415b-4bde-93fe-309984ec3156
DTSTAMP:20260419T170424Z
DESCRIPTION:
DTSTART;TZID=America/St_Johns:20260708T193000
DTEND;TZID=America/St_Johns:20260708T213000
LOCATION:https://us02web.zoom.us/j/88177527016?pwd=tE5Jy04SQ5Ob9JPBsrlmCWZS
 GGiXU2.1
SUMMARY:Atlantic Canada Support Group Meeting
END:VEVENT
END:VCALENDAR
