BEGIN:VCALENDAR
VERSION:2.0
PRODID:-//sjogrenscanada.org//NONSGML kigkonsult.se iCalcreator 2.30.10//
CALSCALE:GREGORIAN
METHOD:PUBLISH
UID:b53a60a3-12be-448d-a8b7-d5f35e6e9530
X-WR-CALDESC:
X-WR-RELCALID:bf3226937c5d94ccc8d623550d6b7db5
X-WR-TIMEZONE:America/New_York
BEGIN:VTIMEZONE
TZID:America/New_York
BEGIN:STANDARD
TZNAME:EST
DTSTART:20251102T020000
TZOFFSETFROM:-0400
TZOFFSETTO:-0500
RDATE:20261101T020000
RDATE:20271107T020000
END:STANDARD
BEGIN:DAYLIGHT
TZNAME:EDT
DTSTART:20260308T020000
TZOFFSETFROM:-0500
TZOFFSETTO:-0400
RDATE:20270314T020000
END:DAYLIGHT
END:VTIMEZONE
BEGIN:VEVENT
UID:14e24246-e709-4196-9ff7-635b5c93911f
DTSTAMP:20260419T170859Z
DESCRIPTION:
DTSTART;TZID=America/New_York:20260715T190000
DTEND;TZID=America/New_York:20260715T210000
LOCATION:https://us02web.zoom.us/j/83923719349?pwd=fQeIxbpKfIKTn7CGadUtZQvf
 PF1ewZ.1
SUMMARY:Durham Region Support Group Meeting
END:VEVENT
END:VCALENDAR
