BEGIN:VCALENDAR
VERSION:2.0
PRODID:-//sjogrenscanada.org//NONSGML kigkonsult.se iCalcreator 2.30.10//
CALSCALE:GREGORIAN
METHOD:PUBLISH
UID:c848ba73-e368-476a-bd23-1125620965fb
X-WR-CALDESC:
X-WR-RELCALID:6e4ab4d3a805db11ac597dde1a5b09d4
X-WR-TIMEZONE:America/St_Johns
BEGIN:VTIMEZONE
TZID:America/St_Johns
BEGIN:STANDARD
TZNAME:NST
DTSTART:20251102T020000
TZOFFSETFROM:-0230
TZOFFSETTO:-0330
RDATE:20261101T020000
RDATE:20271107T020000
END:STANDARD
BEGIN:DAYLIGHT
TZNAME:NDT
DTSTART:20260308T020000
TZOFFSETFROM:-0330
TZOFFSETTO:-0230
RDATE:20270314T020000
END:DAYLIGHT
END:VTIMEZONE
BEGIN:VEVENT
UID:2ef7198c-66fd-4072-b3d3-4dc5a4d01241
DTSTAMP:20260419T190023Z
DESCRIPTION:
DTSTART;TZID=America/St_Johns:20260812T193000
DTEND;TZID=America/St_Johns:20260812T213000
LOCATION:https://us02web.zoom.us/j/88177527016?pwd=tE5Jy04SQ5Ob9JPBsrlmCWZS
 GGiXU2.1
SUMMARY:Atlantic Canada Support Group Meeting
END:VEVENT
END:VCALENDAR
