BEGIN:VCALENDAR
VERSION:2.0
PRODID:-//sjogrenscanada.org//NONSGML kigkonsult.se iCalcreator 2.30.10//
CALSCALE:GREGORIAN
METHOD:PUBLISH
UID:4f365fc6-2eb1-4bb8-82a2-53851b988938
X-WR-CALDESC:
X-WR-RELCALID:64365efb626b2ca135c3407e0d1ecef7
X-WR-TIMEZONE:America/New_York
BEGIN:VTIMEZONE
TZID:America/New_York
BEGIN:STANDARD
TZNAME:EST
DTSTART:20251102T020000
TZOFFSETFROM:-0400
TZOFFSETTO:-0500
RDATE:20261101T020000
RDATE:20271107T020000
END:STANDARD
BEGIN:DAYLIGHT
TZNAME:EDT
DTSTART:20260308T020000
TZOFFSETFROM:-0500
TZOFFSETTO:-0400
RDATE:20270314T020000
END:DAYLIGHT
END:VTIMEZONE
BEGIN:VEVENT
UID:74bfd1ea-996c-4006-8bf0-70c672448f66
DTSTAMP:20260419T190052Z
DESCRIPTION:
DTSTART;TZID=America/New_York:20260819T190000
DTEND;TZID=America/New_York:20260819T210000
LOCATION:https://us02web.zoom.us/j/83923719349?pwd=fQeIxbpKfIKTn7CGadUtZQvf
 PF1ewZ.1
SUMMARY:Durham Region Support Group Meeting
END:VEVENT
END:VCALENDAR
