BEGIN:VCALENDAR
VERSION:2.0
PRODID:-//sjogrenscanada.org//NONSGML kigkonsult.se iCalcreator 2.30.10//
CALSCALE:GREGORIAN
METHOD:PUBLISH
UID:c86cd506-66d3-401b-81f8-72e460dfcb4d
X-WR-CALDESC:
X-WR-RELCALID:1022ee645cd803d26c282201a840a2bb
X-WR-TIMEZONE:America/New_York
BEGIN:VTIMEZONE
TZID:America/New_York
BEGIN:STANDARD
TZNAME:EST
DTSTART:20251102T020000
TZOFFSETFROM:-0400
TZOFFSETTO:-0500
RDATE:20261101T020000
RDATE:20271107T020000
END:STANDARD
BEGIN:DAYLIGHT
TZNAME:EDT
DTSTART:20260308T020000
TZOFFSETFROM:-0500
TZOFFSETTO:-0400
RDATE:20270314T020000
RDATE:20280312T020000
END:DAYLIGHT
END:VTIMEZONE
BEGIN:VEVENT
UID:a6915b19-3d7a-41b1-b939-c90f60b20d23
DTSTAMP:20260419T202124Z
DESCRIPTION:
DTSTART;TZID=America/New_York:20260916T190000
DTEND;TZID=America/New_York:20260916T210000
LOCATION:https://us02web.zoom.us/j/83923719349?pwd=fQeIxbpKfIKTn7CGadUtZQvf
 PF1ewZ.1
SUMMARY:Durham Region Support Group Meeting
END:VEVENT
END:VCALENDAR
