BEGIN:VCALENDAR
VERSION:2.0
PRODID:-//sjogrenscanada.org//NONSGML kigkonsult.se iCalcreator 2.30.10//
CALSCALE:GREGORIAN
METHOD:PUBLISH
UID:a89b75a2-b51f-4a74-b82d-926e7388ab03
X-WR-CALDESC:
X-WR-RELCALID:dcbe7c26088ac4acff3fe4517780e70e
X-WR-TIMEZONE:America/St_Johns
BEGIN:VTIMEZONE
TZID:America/St_Johns
BEGIN:STANDARD
TZNAME:NST
DTSTART:20251102T020000
TZOFFSETFROM:-0230
TZOFFSETTO:-0330
RDATE:20261101T020000
RDATE:20271107T020000
END:STANDARD
BEGIN:DAYLIGHT
TZNAME:NDT
DTSTART:20260308T020000
TZOFFSETFROM:-0330
TZOFFSETTO:-0230
RDATE:20270314T020000
RDATE:20280312T020000
END:DAYLIGHT
END:VTIMEZONE
BEGIN:VEVENT
UID:2c043352-53b2-4d7c-9850-11c455efab34
DTSTAMP:20260419T220120Z
DESCRIPTION:
DTSTART;TZID=America/St_Johns:20261014T193000
DTEND;TZID=America/St_Johns:20261014T213000
LOCATION:https://us02web.zoom.us/j/88177527016?pwd=tE5Jy04SQ5Ob9JPBsrlmCWZS
 GGiXU2.1
SUMMARY:Atlantic Canada Support Group Meeting
END:VEVENT
END:VCALENDAR
