BEGIN:VCALENDAR
VERSION:2.0
PRODID:-//sjogrenscanada.org//NONSGML kigkonsult.se iCalcreator 2.30.10//
CALSCALE:GREGORIAN
METHOD:PUBLISH
UID:e2fb38ad-bc5c-4e35-9fd5-4d50a372792c
X-WR-CALDESC:
X-WR-RELCALID:feb0c238e399af0ef939b29d13db8eae
X-WR-TIMEZONE:America/New_York
BEGIN:VTIMEZONE
TZID:America/New_York
BEGIN:STANDARD
TZNAME:EST
DTSTART:20251102T020000
TZOFFSETFROM:-0400
TZOFFSETTO:-0500
RDATE:20261101T020000
RDATE:20271107T020000
END:STANDARD
BEGIN:DAYLIGHT
TZNAME:EDT
DTSTART:20260308T020000
TZOFFSETFROM:-0500
TZOFFSETTO:-0400
RDATE:20270314T020000
RDATE:20280312T020000
END:DAYLIGHT
END:VTIMEZONE
BEGIN:VEVENT
UID:14ec4bc1-4cd7-42a0-9675-03c961a4ea7d
DTSTAMP:20260419T215904Z
DESCRIPTION:
DTSTART;TZID=America/New_York:20261021T190000
DTEND;TZID=America/New_York:20261021T210000
LOCATION:https://us02web.zoom.us/j/83923719349?pwd=fQeIxbpKfIKTn7CGadUtZQvf
 PF1ewZ.1
SUMMARY:Durham Region Support Group Meeting
END:VEVENT
END:VCALENDAR
